BEGIN:VCALENDAR
VERSION:2.0
PRODID:-//Library Market//iCal Export//EN
BEGIN:VEVENT
SUMMARY:Battle Chefs - Kid Class
UID:97250
DTSTAMP:20260419T143800Z
DTSTART:20260819T193000Z
DTEND:20260819T203000Z
LOCATION:Mahwah Public Library, 100 Ridge Rd, Mahwah, NJ 07430, United Sta
 tes
ROOM: Small Meeting Room
DESCRIPTION:Teens will work in teams to create a fun edible display, using
  a seasonal theme.
URL:https://mahwah.librarycalendar.com/index.php/event/battle-chefs-kid-cl
 ass-97250
END:VEVENT
END:VCALENDAR
